BEGIN:VCALENDAR
VERSION:2.0
PRODID:-//LAMA BPO - ECPv6.15.20//NONSGML v1.0//EN
CALSCALE:GREGORIAN
METHOD:PUBLISH
X-WR-CALNAME:LAMA BPO
X-ORIGINAL-URL:https://lamabpo.lt
X-WR-CALDESC:LAMA BPO renginiai
REFRESH-INTERVAL;VALUE=DURATION:PT1H
X-Robots-Tag:noindex
X-PUBLISHED-TTL:PT1H
BEGIN:VTIMEZONE
TZID:Europe/Vilnius
BEGIN:DAYLIGHT
TZOFFSETFROM:+0200
TZOFFSETTO:+0300
TZNAME:EEST
DTSTART:20220327T010000
END:DAYLIGHT
BEGIN:STANDARD
TZOFFSETFROM:+0300
TZOFFSETTO:+0200
TZNAME:EET
DTSTART:20221030T010000
END:STANDARD
BEGIN:DAYLIGHT
TZOFFSETFROM:+0200
TZOFFSETTO:+0300
TZNAME:EEST
DTSTART:20230326T010000
END:DAYLIGHT
BEGIN:STANDARD
TZOFFSETFROM:+0300
TZOFFSETTO:+0200
TZNAME:EET
DTSTART:20231029T010000
END:STANDARD
BEGIN:DAYLIGHT
TZOFFSETFROM:+0200
TZOFFSETTO:+0300
TZNAME:EEST
DTSTART:20240331T010000
END:DAYLIGHT
BEGIN:STANDARD
TZOFFSETFROM:+0300
TZOFFSETTO:+0200
TZNAME:EET
DTSTART:20241027T010000
END:STANDARD
END:VTIMEZONE
BEGIN:VEVENT
DTSTART;VALUE=DATE:20231010
DTEND;VALUE=DATE:20231108
DTSTAMP:20260422T195742
CREATED:20231018T061220Z
LAST-MODIFIED:20231018T071224Z
UID:32420-1696896000-1699401599@lamabpo.lt
SUMMARY:KTU Atviros paskaitos „Ispanų kalbos vaistinėlė" | Studentams\, moksleiviams
DESCRIPTION:„Ispanų kalbos vaistinėlė“ – 5 nemokamos paskaitos moksleiviams ir studentams\, norintiems išmokti ispanų kalbos pradmenų.
URL:https://lamabpo.lt/renginiai/atviros-paskaitos-ispanu-kalbos-vaistinele-studentams-moksleiviams/
END:VEVENT
BEGIN:VEVENT
DTSTART;VALUE=DATE:20231011
DTEND;VALUE=DATE:20240101
DTSTAMP:20260422T195742
CREATED:20231011T051321Z
LAST-MODIFIED:20231011T051847Z
UID:32343-1696982400-1704067199@lamabpo.lt
SUMMARY:Patirk VDU!
DESCRIPTION:VDU kviečia mokinių grupes „patirti“ universitetą. Suburkite 30-50 vyresnių klasių mokinių grupes\, išsirinkite norimą temą ir pasinerkite į studentišką kelionę. \n  \n  \n 
URL:https://lamabpo.lt/renginiai/patirk-vdu/
END:VEVENT
BEGIN:VEVENT
DTSTART;VALUE=DATE:20231011
DTEND;VALUE=DATE:20240101
DTSTAMP:20260422T195742
CREATED:20231011T051617Z
LAST-MODIFIED:20231011T051906Z
UID:32342-1696982400-1704067199@lamabpo.lt
SUMMARY:VDU \,\,Dėstytojų paskaitos moksleiviams"
DESCRIPTION:Vytauto Didžiojo universitetas siūlo praturtinti ir paįvairinti moksleivių pamokas bei praleisti dieną mokykloje „kitaip“. \nPasirinktos paskaitos metu moksleiviai ne tik įgis naujų žinių\, bet ir išgirs įdomių faktų\, naujų versijų\, susipažins su naujausiais moksliniais tyrimais bei atradimais. \n  \n  \n 
URL:https://lamabpo.lt/renginiai/destytoju-paskaitos-moksleiviams/
END:VEVENT
BEGIN:VEVENT
DTSTART;VALUE=DATE:20231011
DTEND;VALUE=DATE:20240101
DTSTAMP:20260422T195742
CREATED:20231011T051806Z
LAST-MODIFIED:20231011T051809Z
UID:32341-1696982400-1704067199@lamabpo.lt
SUMMARY:VDU \,\,Ekskursijos universitete"
DESCRIPTION:Vytauto Didžiojo universitetas siūlo praturtinti ir paįvairinti moksleivių pamokas bei praleisti jas Vytauto Didžiojo universitete aplankant įvairius istorinius\, kultūrinius ir pramoginius objektus. Ekskursijų metu Jus lydės ir istorijas pasakos VDU dėstytojai ir darbuotojai. \n  \n  \n 
URL:https://lamabpo.lt/renginiai/ekskursijos-universitete/
END:VEVENT
BEGIN:VEVENT
DTSTART;VALUE=DATE:20231019
DTEND;VALUE=DATE:20231020
DTSTAMP:20260422T195742
CREATED:20231011T073245Z
LAST-MODIFIED:20231011T073422Z
UID:32372-1697673600-1697759999@lamabpo.lt
SUMMARY:KTU WANTed karjeros dienos 2023
DESCRIPTION:Spalio 19 d.\, ketvirtadienį organizuojamas KTU karjeros dienų renginys WANTed. Karjeros dienose moksleiviams skirtas specialus laikas (nuo 11.30 iki 13.30). Kviečiame savo karjeros planą kurti drauge su KTU.
URL:https://lamabpo.lt/renginiai/ktu-wanted-karjeros-dienos-2023/
END:VEVENT
BEGIN:VEVENT
DTSTART;VALUE=DATE:20231019
DTEND;VALUE=DATE:20231020
DTSTAMP:20260422T195742
CREATED:20231018T062401Z
LAST-MODIFIED:20231018T062403Z
UID:32431-1697673600-1697759999@lamabpo.lt
SUMMARY:KTU vokiečių kalbos diena „Pusryčiai su vokiečių kalba“ | Studentams\, moksleiviams
DESCRIPTION:KTU Socialinių\, humanitarinių mokslų ir menų fakultetas kviečia visus\, neabejingus vokiečių kalbai\, kartu švęsti vokiečių kalbos dieną – spalio 19 d.\, ketvirtadienį\, 9.00–11.00 val.
URL:https://lamabpo.lt/renginiai/ktu-vokieciu-kalbos-diena-pusryciai-su-vokieciu-kalba-studentams-moksleiviams/
END:VEVENT
BEGIN:VEVENT
DTSTART;VALUE=DATE:20231023
DTEND;VALUE=DATE:20240101
DTSTAMP:20260422T195742
CREATED:20231023T055750Z
LAST-MODIFIED:20231023T060005Z
UID:32454-1698019200-1704067199@lamabpo.lt
SUMMARY:Susipažink su LSMU
DESCRIPTION:Kviečiame atvykti į Lietuvos sveikatos mokslų universitetą susipažinti su studentų mokymosi aplinka ir plačiomis studijų galimybėmis dalyvaujant LSMU studijų programų pristatyme auditorijoje\, apsilankant muziejuose (ekskursijos vykdomos tik grupėms ir iš anksto suderinus).
URL:https://lamabpo.lt/renginiai/susipazink-su-lsmu/
END:VEVENT
BEGIN:VEVENT
DTSTART;VALUE=DATE:20231023
DTEND;VALUE=DATE:20240101
DTSTAMP:20260422T195742
CREATED:20231023T055922Z
LAST-MODIFIED:20231023T055925Z
UID:32453-1698019200-1704067199@lamabpo.lt
SUMMARY:Dalyvauk LSMU paskaitose
DESCRIPTION:Kviečiame moksleivius dalyvauti Lietuvos sveikatos mokslų universiteto paskaitose ir pasijusti tikrais studentais!\nTai galimybė ne tik įgyti naujų žinių\, bet ir susipažinti su studentų mokymosi aplinka\, dėstytojais\, dominančios specialybės specifika.
URL:https://lamabpo.lt/renginiai/dalyvauk-lsmu-paskaitose/
END:VEVENT
BEGIN:VEVENT
DTSTART;VALUE=DATE:20231023
DTEND;VALUE=DATE:20240101
DTSTAMP:20260422T195742
CREATED:20231023T060216Z
LAST-MODIFIED:20231023T060221Z
UID:32452-1698019200-1704067199@lamabpo.lt
SUMMARY:Dalyvauk LSMU Laboratoriniuose darbuose
DESCRIPTION:Kviečiame moksleivius apsilankyti Lietuvos sveikatos mokslų universitete ir sudalyvauti praktiniuose užsiėmimuose.\nPraktinių užsiėmimų metu įgysite naujų žinių\, susipažinsite su studentų mokymosi aplinka ir dėstytojais\, dominančios mokslo srities specifika.
URL:https://lamabpo.lt/renginiai/dalyvauk-lsmu-laboratoriniuose-darbuose/
END:VEVENT
BEGIN:VEVENT
DTSTART;VALUE=DATE:20231023
DTEND;VALUE=DATE:20240101
DTSTAMP:20260422T195742
CREATED:20231020T072444Z
LAST-MODIFIED:20231020T072446Z
UID:32437-1698019200-1704067199@lamabpo.lt
SUMMARY:ISM „Registracija į studijų konsultaciją"
DESCRIPTION:Ieškai sėkmingai karjerai reikalingų sprendimų\, tačiau profesiniai pasirinkimai kol kas atrodo gąsdinantys ir kupini nežinomybės? Šiuo klausimu tau padės ISM komanda – studijų konsultantai: Aistė\, Janina\, Gabrielė ir Titas.
URL:https://lamabpo.lt/renginiai/registracija-i-studiju-konsultacija/
END:VEVENT
BEGIN:VEVENT
DTSTART;VALUE=DATE:20231024
DTEND;VALUE=DATE:20231025
DTSTAMP:20260422T195742
CREATED:20231011T053035Z
LAST-MODIFIED:20231011T053037Z
UID:32360-1698105600-1698191999@lamabpo.lt
SUMMARY:LTVK \,\,Pusryčiai su lyderiu"
DESCRIPTION:10:00 val. adresu Turgaus g. 21\, vyks susitikimas su Julija Brodske (JULIJA BRODSKĖ – ženklodaros ir skaitmeninės komunikacijos konsultantė\, mokymų vedėja\, savo darbo vietą ir asmeninį prekės ženklą susikūrė pati.)
URL:https://lamabpo.lt/renginiai/pusryciai-su-lyderiu/
END:VEVENT
BEGIN:VEVENT
DTSTART;VALUE=DATE:20231024
DTEND;VALUE=DATE:20231025
DTSTAMP:20260422T195742
CREATED:20231016T052556Z
LAST-MODIFIED:20231016T052559Z
UID:32394-1698105600-1698191999@lamabpo.lt
SUMMARY:LCC \,\,Aplinkos ir klimato sąmoningumo ugdymo renginys"
DESCRIPTION:Spalio 23–29 d. Lietuvos aplinkos ministerija penktąjį kartą rengia Klimato savaitę. Ši iniciatyva skatina visuomenę atvirai kalbėti apie iššūkius ir galimybes švelninant klimato kaitą. Renginį organizuoja asociaciją “Aktyvus jaunimas” ir Lietuvos gamtos fondas. Kviečiame prisijungti prie edukacinio žaidimo\, kuris padės šviesti jaunimą apie klimato kaitą ir energijos vartojimo efektyvumą.
URL:https://lamabpo.lt/renginiai/aplinkos-ir-klimato-samoningumo-ugdymo-renginys/
END:VEVENT
BEGIN:VEVENT
DTSTART;VALUE=DATE:20231025
DTEND;VALUE=DATE:20231026
DTSTAMP:20260422T195742
CREATED:20231011T053233Z
LAST-MODIFIED:20231011T053235Z
UID:32359-1698192000-1698278399@lamabpo.lt
SUMMARY:LTVK \,\,Verslo kūrimas\, nuo ko pradėti?"
DESCRIPTION:10:00 val. adresu Turgaus g. 21\, lektorė Toma Liutikė dalinsis praktiniais patarimais kaip įgyvendinti „TĄ“ idėją ir pradėti nuosavą verslą.
URL:https://lamabpo.lt/renginiai/verslo-kurimas-nuo-ko-pradeti/
END:VEVENT
BEGIN:VEVENT
DTSTART;VALUE=DATE:20231025
DTEND;VALUE=DATE:20231026
DTSTAMP:20260422T195742
CREATED:20231018T060716Z
LAST-MODIFIED:20231018T060735Z
UID:32422-1698192000-1698278399@lamabpo.lt
SUMMARY:KTU vertimo konkursas „Verstuvės“  | Studentams\, moksleiviams
DESCRIPTION:KTU Socialinių\, humanitarinių mokslų ir menų fakultetas kviečia 9–12 kl. moksleivius ir studentus dalyvauti vertimo konkurse „Verstuvės“ spalio 25 d. 13 val. nuotoliniu būdu.
URL:https://lamabpo.lt/renginiai/ktu-vertimo-konkursas-verstuves-studentams-moksleiviams/
END:VEVENT
BEGIN:VEVENT
DTSTART;VALUE=DATE:20231026
DTEND;VALUE=DATE:20231027
DTSTAMP:20260422T195742
CREATED:20231016T073939Z
LAST-MODIFIED:20231016T073956Z
UID:32412-1698278400-1698364799@lamabpo.lt
SUMMARY:Atvirų durų diena Šiaulių valstybinėje kolegijoje
DESCRIPTION:Spalio 26 dieną Šiaulių valstybinė kolegija (ŠVK) organizuoja Atvirų durų dieną „ParagAUK studijų“– kviečia vyresnių gimnazijos klasių moksleivius kartu su studentais dalyvauti įvairių studijų programų paskaitose ir praktiniuose užsiėmimuose.  \nŠiaulių valstybinės kolegijos studentai ir dėstytojai atveria auditorijų\, laboratorijų\, kabinetų duris ir siūlo galimybę moksleiviams ne tik pamatyti\, kaip atrodo aukštosios mokyklos paskaita\, bet ir patiems kartu su studentais aktyviai dalyvauti užsiėmimuose\, atlikti užduotis\, diskutuoti\, kurti ir\, žinoma\, pasisemti naujų žinių.
URL:https://lamabpo.lt/renginiai/atviru-duru-diena-siauliu-valstybineje-kolegijoje/
END:VEVENT
BEGIN:VEVENT
DTSTART;VALUE=DATE:20231028
DTEND;VALUE=DATE:20231029
DTSTAMP:20260422T195742
CREATED:20231018T061426Z
LAST-MODIFIED:20231018T061428Z
UID:32418-1698451200-1698537599@lamabpo.lt
SUMMARY:Fizikos ir matematikos žinių šventė „Atrakink“
DESCRIPTION:Virtualiame pabėgimo kambaryje gali dalyvauti ne tik moksleiviai\, bet ir jų mokytojai\, tėvai\, seneliai\, sėsės ar broliai ir draugai. . Registracija vyksta iki spalio 22 d.
URL:https://lamabpo.lt/renginiai/fizikos-ir-matematikos-ziniu-svente-atrakink/
END:VEVENT
END:VCALENDAR