BEGIN:VCALENDAR
VERSION:2.0
PRODID:-//LAMA BPO - ECPv6.15.20//NONSGML v1.0//EN
CALSCALE:GREGORIAN
METHOD:PUBLISH
X-ORIGINAL-URL:https://lamabpo.lt
X-WR-CALDESC:LAMA BPO renginiai
REFRESH-INTERVAL;VALUE=DURATION:PT1H
X-Robots-Tag:noindex
X-PUBLISHED-TTL:PT1H
BEGIN:VTIMEZONE
TZID:Europe/Vilnius
BEGIN:DAYLIGHT
TZOFFSETFROM:+0200
TZOFFSETTO:+0300
TZNAME:EEST
DTSTART:20220327T010000
END:DAYLIGHT
BEGIN:STANDARD
TZOFFSETFROM:+0300
TZOFFSETTO:+0200
TZNAME:EET
DTSTART:20221030T010000
END:STANDARD
BEGIN:DAYLIGHT
TZOFFSETFROM:+0200
TZOFFSETTO:+0300
TZNAME:EEST
DTSTART:20230326T010000
END:DAYLIGHT
BEGIN:STANDARD
TZOFFSETFROM:+0300
TZOFFSETTO:+0200
TZNAME:EET
DTSTART:20231029T010000
END:STANDARD
BEGIN:DAYLIGHT
TZOFFSETFROM:+0200
TZOFFSETTO:+0300
TZNAME:EEST
DTSTART:20240331T010000
END:DAYLIGHT
BEGIN:STANDARD
TZOFFSETFROM:+0300
TZOFFSETTO:+0200
TZNAME:EET
DTSTART:20241027T010000
END:STANDARD
END:VTIMEZONE
BEGIN:VEVENT
DTSTART;VALUE=DATE:20231010
DTEND;VALUE=DATE:20231108
DTSTAMP:20260422T175847
CREATED:20231018T061220Z
LAST-MODIFIED:20231018T071224Z
UID:32420-1696896000-1699401599@lamabpo.lt
SUMMARY:KTU Atviros paskaitos „Ispanų kalbos vaistinėlė" | Studentams\, moksleiviams
DESCRIPTION:„Ispanų kalbos vaistinėlė“ – 5 nemokamos paskaitos moksleiviams ir studentams\, norintiems išmokti ispanų kalbos pradmenų.
URL:https://lamabpo.lt/renginiai/atviros-paskaitos-ispanu-kalbos-vaistinele-studentams-moksleiviams/
END:VEVENT
BEGIN:VEVENT
DTSTART;VALUE=DATE:20231011
DTEND;VALUE=DATE:20240101
DTSTAMP:20260422T175847
CREATED:20231011T051321Z
LAST-MODIFIED:20231011T051847Z
UID:32343-1696982400-1704067199@lamabpo.lt
SUMMARY:Patirk VDU!
DESCRIPTION:VDU kviečia mokinių grupes „patirti“ universitetą. Suburkite 30-50 vyresnių klasių mokinių grupes\, išsirinkite norimą temą ir pasinerkite į studentišką kelionę. \n  \n  \n 
URL:https://lamabpo.lt/renginiai/patirk-vdu/
END:VEVENT
BEGIN:VEVENT
DTSTART;VALUE=DATE:20231011
DTEND;VALUE=DATE:20240101
DTSTAMP:20260422T175847
CREATED:20231011T051617Z
LAST-MODIFIED:20231011T051906Z
UID:32342-1696982400-1704067199@lamabpo.lt
SUMMARY:VDU \,\,Dėstytojų paskaitos moksleiviams"
DESCRIPTION:Vytauto Didžiojo universitetas siūlo praturtinti ir paįvairinti moksleivių pamokas bei praleisti dieną mokykloje „kitaip“. \nPasirinktos paskaitos metu moksleiviai ne tik įgis naujų žinių\, bet ir išgirs įdomių faktų\, naujų versijų\, susipažins su naujausiais moksliniais tyrimais bei atradimais. \n  \n  \n 
URL:https://lamabpo.lt/renginiai/destytoju-paskaitos-moksleiviams/
END:VEVENT
BEGIN:VEVENT
DTSTART;VALUE=DATE:20231011
DTEND;VALUE=DATE:20240101
DTSTAMP:20260422T175847
CREATED:20231011T051806Z
LAST-MODIFIED:20231011T051809Z
UID:32341-1696982400-1704067199@lamabpo.lt
SUMMARY:VDU \,\,Ekskursijos universitete"
DESCRIPTION:Vytauto Didžiojo universitetas siūlo praturtinti ir paįvairinti moksleivių pamokas bei praleisti jas Vytauto Didžiojo universitete aplankant įvairius istorinius\, kultūrinius ir pramoginius objektus. Ekskursijų metu Jus lydės ir istorijas pasakos VDU dėstytojai ir darbuotojai. \n  \n  \n 
URL:https://lamabpo.lt/renginiai/ekskursijos-universitete/
END:VEVENT
BEGIN:VEVENT
DTSTART;VALUE=DATE:20231023
DTEND;VALUE=DATE:20240101
DTSTAMP:20260422T175847
CREATED:20231023T055750Z
LAST-MODIFIED:20231023T060005Z
UID:32454-1698019200-1704067199@lamabpo.lt
SUMMARY:Susipažink su LSMU
DESCRIPTION:Kviečiame atvykti į Lietuvos sveikatos mokslų universitetą susipažinti su studentų mokymosi aplinka ir plačiomis studijų galimybėmis dalyvaujant LSMU studijų programų pristatyme auditorijoje\, apsilankant muziejuose (ekskursijos vykdomos tik grupėms ir iš anksto suderinus).
URL:https://lamabpo.lt/renginiai/susipazink-su-lsmu/
END:VEVENT
BEGIN:VEVENT
DTSTART;VALUE=DATE:20231023
DTEND;VALUE=DATE:20240101
DTSTAMP:20260422T175847
CREATED:20231023T055922Z
LAST-MODIFIED:20231023T055925Z
UID:32453-1698019200-1704067199@lamabpo.lt
SUMMARY:Dalyvauk LSMU paskaitose
DESCRIPTION:Kviečiame moksleivius dalyvauti Lietuvos sveikatos mokslų universiteto paskaitose ir pasijusti tikrais studentais!\nTai galimybė ne tik įgyti naujų žinių\, bet ir susipažinti su studentų mokymosi aplinka\, dėstytojais\, dominančios specialybės specifika.
URL:https://lamabpo.lt/renginiai/dalyvauk-lsmu-paskaitose/
END:VEVENT
BEGIN:VEVENT
DTSTART;VALUE=DATE:20231023
DTEND;VALUE=DATE:20240101
DTSTAMP:20260422T175847
CREATED:20231023T060216Z
LAST-MODIFIED:20231023T060221Z
UID:32452-1698019200-1704067199@lamabpo.lt
SUMMARY:Dalyvauk LSMU Laboratoriniuose darbuose
DESCRIPTION:Kviečiame moksleivius apsilankyti Lietuvos sveikatos mokslų universitete ir sudalyvauti praktiniuose užsiėmimuose.\nPraktinių užsiėmimų metu įgysite naujų žinių\, susipažinsite su studentų mokymosi aplinka ir dėstytojais\, dominančios mokslo srities specifika.
URL:https://lamabpo.lt/renginiai/dalyvauk-lsmu-laboratoriniuose-darbuose/
END:VEVENT
BEGIN:VEVENT
DTSTART;VALUE=DATE:20231023
DTEND;VALUE=DATE:20240101
DTSTAMP:20260422T175847
CREATED:20231020T072444Z
LAST-MODIFIED:20231020T072446Z
UID:32437-1698019200-1704067199@lamabpo.lt
SUMMARY:ISM „Registracija į studijų konsultaciją"
DESCRIPTION:Ieškai sėkmingai karjerai reikalingų sprendimų\, tačiau profesiniai pasirinkimai kol kas atrodo gąsdinantys ir kupini nežinomybės? Šiuo klausimu tau padės ISM komanda – studijų konsultantai: Aistė\, Janina\, Gabrielė ir Titas.
URL:https://lamabpo.lt/renginiai/registracija-i-studiju-konsultacija/
END:VEVENT
BEGIN:VEVENT
DTSTART;VALUE=DATE:20231106
DTEND;VALUE=DATE:20231107
DTSTAMP:20260422T175847
CREATED:20231018T061020Z
LAST-MODIFIED:20231018T061036Z
UID:32421-1699228800-1699315199@lamabpo.lt
SUMMARY:KTU muzikos įrašų konkursas „Maišytuvės“ | Moksleiviams
DESCRIPTION:Kviečiame moksleivius dalyvauti muzikos įrašų konkurse „Maišytuvės“. \nTai unikali galimybė besidomintiems muzikos technologijomis gauti atsiliepimų iš šios srities profesionalų\, bei sulaukti pripažinimo už savo muzikinį darbą.
URL:https://lamabpo.lt/renginiai/ktu-muzikos-irasu-konkursas-maisytuves-moksleiviams/
END:VEVENT
BEGIN:VEVENT
DTSTART;VALUE=DATE:20231107
DTEND;VALUE=DATE:20240101
DTSTAMP:20260422T175847
CREATED:20231018T061544Z
LAST-MODIFIED:20231018T061549Z
UID:32417-1699315200-1704067199@lamabpo.lt
SUMMARY:Pasiruošk valstybiniam matematikos egzaminui su KTU MGMF
DESCRIPTION:KTU MGMF kviečia moksleivius pasiruošti valstybiniam matematikos egzaminui kartu. Registracija vyksta iki spalio 20 d.
URL:https://lamabpo.lt/renginiai/pasiruosk-valstybiniam-matematikos-egzaminui-su-ktu-mgmf/
END:VEVENT
BEGIN:VEVENT
DTSTART;VALUE=DATE:20231108
DTEND;VALUE=DATE:20231109
DTSTAMP:20260422T175847
CREATED:20231011T060609Z
LAST-MODIFIED:20231011T060614Z
UID:32367-1699401600-1699487999@lamabpo.lt
SUMMARY:LTVK \,\,Kaip tapti savo srities profesionalu?"
DESCRIPTION:10:00 val. adresu Turgaus g. 21\, lektorė Renata Saukaitė-Sidorova padės jauniesiems dalyviams atsakyti į klausimą „Kaip tapti savo srities specialistu?“.
URL:https://lamabpo.lt/renginiai/ltvk-kaip-tapti-savo-srities-profesionalu/
END:VEVENT
BEGIN:VEVENT
DTSTART;VALUE=DATE:20231110
DTEND;VALUE=DATE:20231111
DTSTAMP:20260422T175847
CREATED:20231011T051102Z
LAST-MODIFIED:20231011T051105Z
UID:32344-1699574400-1699660799@lamabpo.lt
SUMMARY:VDU „Matuokis profesiją“
DESCRIPTION:Vytauto Didžiojo universitetas lapkričio 10 dieną kviečia 10-12 klasių moksleivius atvykti į renginį „Matuokis profesiją 2023“\, kurio metu VDU absolventai dalinsis savo patirtimi bei įvairiomis istorijomis sėkmingos karjeros link. \n  \n  \n 
URL:https://lamabpo.lt/renginiai/vdu-matuokis-profesija/
END:VEVENT
BEGIN:VEVENT
DTSTART;VALUE=DATE:20231110
DTEND;VALUE=DATE:20231111
DTSTAMP:20260422T175847
CREATED:20231103T123119Z
LAST-MODIFIED:20231103T123122Z
UID:32564-1699574400-1699660799@lamabpo.lt
SUMMARY:Atvirų durų diena VILNIUS TECH
DESCRIPTION:Interaktyvus renginys naujajame VILNIUS TECH mokomajame-laboratoriniame korpuse.
URL:https://lamabpo.lt/renginiai/atviru-duru-diena-vilnius-tech-2/
END:VEVENT
BEGIN:VEVENT
DTSTART;VALUE=DATE:20231113
DTEND;VALUE=DATE:20231125
DTSTAMP:20260422T175847
CREATED:20231016T052731Z
LAST-MODIFIED:20231016T052734Z
UID:32393-1699833600-1700870399@lamabpo.lt
SUMMARY:LCC Akademija
DESCRIPTION:Tai ne vienerius metus LCC tarptautinio universiteto organizuojamos nuotolinės paskaitų serijos 10-12 klasių moksleiviams. Tai išskirtinio akademinio turinio paskaitos\, kurių metu vykdomos diskusijos\, vystomas kritinis mąstymas per socialines\, dvasines ir ekonomines prizmes. Išklausius visas paskaitas\, galima gauti pažymėjimą ir papildomą priėmimo balą stojantiems į LCC tarptautinį universitetą. Registracija vykdoma iki lapkričio 6 d.
URL:https://lamabpo.lt/renginiai/lcc-akademija/
END:VEVENT
BEGIN:VEVENT
DTSTART;VALUE=DATE:20231113
DTEND;VALUE=DATE:20231207
DTSTAMP:20260422T175847
CREATED:20231103T123418Z
LAST-MODIFIED:20231130T132444Z
UID:32562-1699833600-1701907199@lamabpo.lt
SUMMARY:VILNIUS TECH \,\,Atviros paskaitos TAU"
DESCRIPTION:Moksleivi\, kartu su esamais studentais dalyvauk jų paskaitose!
URL:https://lamabpo.lt/renginiai/atviros-paskaitos-tau/
END:VEVENT
BEGIN:VEVENT
DTSTART;VALUE=DATE:20231114
DTEND;VALUE=DATE:20231115
DTSTAMP:20260422T175847
CREATED:20231103T123307Z
LAST-MODIFIED:20231103T123307Z
UID:32563-1699920000-1700006399@lamabpo.lt
SUMMARY:VILNIUS TECH \,\,Game DAY"
DESCRIPTION:Renginys skirtas visiems\, kurie domisi Lietuvos žaidimų industrija ir jos suteikiamomis galimybėmis.
URL:https://lamabpo.lt/renginiai/game-day/
END:VEVENT
BEGIN:VEVENT
DTSTART;VALUE=DATE:20231115
DTEND;VALUE=DATE:20231116
DTSTAMP:20260422T175847
CREATED:20231011T055556Z
LAST-MODIFIED:20231011T055558Z
UID:32357-1700006400-1700092799@lamabpo.lt
SUMMARY:LTVK \,\,Jaunimas Jaunimui 2023"
DESCRIPTION:„Jaunimas jaunimui“ renginys organizuojamas kartu su „Junior Achievement Lietuva“\, siekiant sinergizuoti jaunąsias bendroves ir paskatinti realizuoti savo verslo idėjas. \nRenginio metu galėsite pristatyti savo verslo idėjas komisijai\, išgirsti lektorių-ekspertų patarimus bei taip ugdyti savo lyderystės bei verslumo kompetencijas. Verslumo renginio metu turėsite galimybę ne tik ekspertams pristatyti savo verslo idėjas\, bet ir praplėsti žinias apie problemų sprendimo būdus\, įvairias marketingo priemones\, kurios būtų tinkamos sprendžiant verslo vystymo problemas.
URL:https://lamabpo.lt/renginiai/jaunimas-jaunimui-2023/
END:VEVENT
BEGIN:VEVENT
DTSTART;VALUE=DATE:20231116
DTEND;VALUE=DATE:20231117
DTSTAMP:20260422T175847
CREATED:20231011T061720Z
LAST-MODIFIED:20231011T061723Z
UID:32369-1700092800-1700179199@lamabpo.lt
SUMMARY:KOK \,\,12-oji tarptautinė studentų konferencija TEORIJA IR PRAKTIKA: STUDENTIŠKOS ĮŽVALGOS"
DESCRIPTION:Konferencija vyks nuotoliniu būdu. Kviečiame registruotis iki 2023-11-10 \nhttps://docs.google.com/forms/d/e/1FAIpQLScoeuaNhHtmD4MgONvQHqr2WXxbKPTRD74OQLsc4htp3l8VOA/viewform
URL:https://lamabpo.lt/renginiai/12-oji-tarptautine-studentu-konferencija-teorija-ir-praktika-studentiskos-izvalgos/
END:VEVENT
BEGIN:VEVENT
DTSTART;VALUE=DATE:20231122
DTEND;VALUE=DATE:20231123
DTSTAMP:20260422T175847
CREATED:20231016T080409Z
LAST-MODIFIED:20231016T080413Z
UID:32411-1700611200-1700697599@lamabpo.lt
SUMMARY:ŠVK \,\,Galimybių festivalis TAVO PIN KODAS"
DESCRIPTION:Šiaulių valstybinė kolegija jau šeštą kartą organizuoja Šiaulių jaunimui skirtą renginį – „Galimybių festivalį TAVO PIN KODAS“. \nReprezentacinis Šiaulių miesto savivaldybės finansuojamas renginys kasmet stebina naujomis idėjomis ir sumanymais. \n„Galimybių festivalis TAVO PIN KODAS“ – Šiaulių miesto jaunimui subalansuotas renginys\, sukviečiantis moksleivius klausytis įkvepiančių pranešimų\, rinktis neformalias veiklas\, ieškoti savęs ir tiesiog smagiai leisti laiką.
URL:https://lamabpo.lt/renginiai/galimybiu-festivalis-tavo-pin-kodas/
END:VEVENT
BEGIN:VEVENT
DTSTART;VALUE=DATE:20231124
DTEND;VALUE=DATE:20231125
DTSTAMP:20260422T175847
CREATED:20231023T060346Z
LAST-MODIFIED:20231023T060352Z
UID:32451-1700784000-1700870399@lamabpo.lt
SUMMARY:LSMU Atvirų durų diena
DESCRIPTION:Kviečiame dalyvauti Lietuvos sveikatos mokslų universiteto „Atvirų durų dienoje 2023“. Renginio metu turėsite galimybę sužinoti apie LSMU studijų programas\, pabendrauti su dėstytojais ir studentais\, sudalyvauti paskaitose ir praktinėse veiklose.
URL:https://lamabpo.lt/renginiai/lsmu-atviru-duru-diena/
END:VEVENT
BEGIN:VEVENT
DTSTART;VALUE=DATE:20231130
DTEND;VALUE=DATE:20240101
DTSTAMP:20260422T175847
CREATED:20231130T132933Z
LAST-MODIFIED:20231130T132933Z
UID:32746-1701302400-1704067199@lamabpo.lt
SUMMARY:VILNIUS TECH  Jaunojo inžinieriaus paskaitos
DESCRIPTION:Vyresniųjų klasių mokiniai kviečiami į jiems parengtas nemokamas temines dėstytojų paskaitas\, kuriose supažindinama su aktualiomis\, apimančiomis fakultetų sritis\, temomis.
URL:https://lamabpo.lt/renginiai/vilnius-tech-jaunojo-inzinieriaus-paskaitos/
END:VEVENT
BEGIN:VEVENT
DTSTART;VALUE=DATE:20231130
DTEND;VALUE=DATE:20240101
DTSTAMP:20260422T175847
CREATED:20231130T133121Z
LAST-MODIFIED:20231130T133121Z
UID:32745-1701302400-1704067199@lamabpo.lt
SUMMARY:VILNIUS TECH #klauskKŪRĖJO
DESCRIPTION:Apsispręsti į kokią studijų programą stoti gali būti nelengva\, tad VILNIUS TECH bakalauro studijų studentai atsakys į visus kylančius klausimus – ne tik apie studijas ar egzaminus\, bet ir apie gyvenimą VILNIUS TECH!
URL:https://lamabpo.lt/renginiai/vilnius-tech-klauskkurejo/
END:VEVENT
BEGIN:VEVENT
DTSTART;VALUE=DATE:20231130
DTEND;VALUE=DATE:20240101
DTSTAMP:20260422T175847
CREATED:20231130T133237Z
LAST-MODIFIED:20231130T133241Z
UID:32744-1701302400-1704067199@lamabpo.lt
SUMMARY:VILNIUS TECH individualios konsultacijos
DESCRIPTION:Nori individualios konsultacijos dėl studijų? Registruokis ir gauk atsakymus į tau aktualius klausimus.
URL:https://lamabpo.lt/renginiai/vilnius-tech-individualios-konsultacijos/
END:VEVENT
END:VCALENDAR