BEGIN:VCALENDAR
VERSION:2.0
PRODID:-//LAMA BPO - ECPv6.15.20//NONSGML v1.0//EN
CALSCALE:GREGORIAN
METHOD:PUBLISH
X-ORIGINAL-URL:https://lamabpo.lt
X-WR-CALDESC:LAMA BPO renginiai
REFRESH-INTERVAL;VALUE=DURATION:PT1H
X-Robots-Tag:noindex
X-PUBLISHED-TTL:PT1H
BEGIN:VTIMEZONE
TZID:Europe/Vilnius
BEGIN:DAYLIGHT
TZOFFSETFROM:+0200
TZOFFSETTO:+0300
TZNAME:EEST
DTSTART:20230326T010000
END:DAYLIGHT
BEGIN:STANDARD
TZOFFSETFROM:+0300
TZOFFSETTO:+0200
TZNAME:EET
DTSTART:20231029T010000
END:STANDARD
BEGIN:DAYLIGHT
TZOFFSETFROM:+0200
TZOFFSETTO:+0300
TZNAME:EEST
DTSTART:20240331T010000
END:DAYLIGHT
BEGIN:STANDARD
TZOFFSETFROM:+0300
TZOFFSETTO:+0200
TZNAME:EET
DTSTART:20241027T010000
END:STANDARD
BEGIN:DAYLIGHT
TZOFFSETFROM:+0200
TZOFFSETTO:+0300
TZNAME:EEST
DTSTART:20250330T010000
END:DAYLIGHT
BEGIN:STANDARD
TZOFFSETFROM:+0300
TZOFFSETTO:+0200
TZNAME:EET
DTSTART:20251026T010000
END:STANDARD
BEGIN:DAYLIGHT
TZOFFSETFROM:+0200
TZOFFSETTO:+0300
TZNAME:EEST
DTSTART:20260329T010000
END:DAYLIGHT
BEGIN:STANDARD
TZOFFSETFROM:+0300
TZOFFSETTO:+0200
TZNAME:EET
DTSTART:20261025T010000
END:STANDARD
END:VTIMEZONE
BEGIN:VEVENT
DTSTART;VALUE=DATE:20240227
DTEND;VALUE=DATE:20250101
DTSTAMP:20260419T163510
CREATED:20240227T114623Z
LAST-MODIFIED:20240227T114625Z
UID:33560-1708992000-1735689599@lamabpo.lt
SUMMARY:Patirk VDU!
DESCRIPTION:VDU kviečia mokinių grupes „patirti“ universitetą. Suburkite 30-50 vyresnių klasių mokinių grupes\, išsirinkite norimą temą ir pasinerkite į studentišką kelionę. \n 
URL:https://lamabpo.lt/renginiai/patirk-vdu-2/
END:VEVENT
BEGIN:VEVENT
DTSTART;VALUE=DATE:20240227
DTEND;VALUE=DATE:20250101
DTSTAMP:20260419T163510
CREATED:20240227T114859Z
LAST-MODIFIED:20240227T122817Z
UID:33562-1708992000-1735689599@lamabpo.lt
SUMMARY:VDU dėstytojų paskaitos moksleiviams
DESCRIPTION:Vytauto Didžiojo universitetas siūlo praturtinti ir paįvairinti moksleivių pamokas bei praleisti dieną mokykloje „kitaip“. Pasirinktos paskaitos metu moksleiviai ne tik įgis naujų žinių\, bet ir išgirs įdomių faktų\, naujų versijų\, susipažins su naujausiais \nmoksliniais tyrimais bei atradimais. \n 
URL:https://lamabpo.lt/renginiai/vdu-destytoju-paskaitos-moksleiviams-2/
END:VEVENT
BEGIN:VEVENT
DTSTART;VALUE=DATE:20240503
DTEND;VALUE=DATE:20250504
DTSTAMP:20260419T163510
CREATED:20250425T060202Z
LAST-MODIFIED:20250425T060410Z
UID:36448-1714694400-1746316799@lamabpo.lt
SUMMARY:Vilniaus kolegijos (VIKO) atviros nuotolinės paskaitos moksleiviams Vizualinės komunikacijos ir Prekės ženklo kūrimo temomis
DESCRIPTION:VIKO Verslo vadybos fakultetas kviečia moksleivius į atviras nuotolines paskaitas apie vizualinę komunikaciją ir prekės ženklo kūrimą. Paskaitas ves lektorė Laimutė Fedosejeva. Paskaitų metu susipažinsite su harmonijos sąvoka komunikacijoje bei pagrindiniais grafinės kompozicijos principais – pusiausvyra\, proporcija\, simetrija. Taip pat sužinosite\, kaip kuriamas prekės ženklo stilius\, kokie jam keliami reikalavimai ir kokiais atvejais bei kodėl atliekamas prekės ženklo atnaujinimas. Nebūtina dalyvauti abiejose paskaitose – galima pasirinkti tik vieną.\n\nVieta: MS Teams\nLaikas: Gegužės 3 d.\, 8:00 val. Vaizdo harmonizavimo priemonės; Birželio 5 d.\, 18:00 val. Prekės ženklo stilius\nRegistracija: 👉 https://forms.office.com/e/n7NKQpzZKH \, prisijungimo nuoroda bus atsiųsta užsiregistravusiems dalyviams.
URL:https://lamabpo.lt/renginiai/vilniaus-kolegijos-viko-atviros-nuotolines-paskaitos-moksleiviams-vizualines-komunikacijos-ir-prekes-zenklo-kurimo-temomis/
END:VEVENT
BEGIN:VEVENT
DTSTART;VALUE=DATE:20240901
DTEND;VALUE=DATE:20250901
DTSTAMP:20260419T163510
CREATED:20240909T062048Z
LAST-MODIFIED:20240909T062048Z
UID:35122-1725148800-1756684799@lamabpo.lt
SUMMARY:VILNIUS TECH #klauskKŪRĖJO
DESCRIPTION:Apsispręsti į kokią studijų programą stoti gali būti nelengva\, tad VILNIUS TECH bakalauro studijų studentai atsakys į visus kylančius klausimus – ne tik apie studijas ar egzaminus\, bet ir apie gyvenimą VILNIUS TECH!
URL:https://lamabpo.lt/renginiai/vilnius-tech-klauskkurejo-3/
END:VEVENT
BEGIN:VEVENT
DTSTART;VALUE=DATE:20240901
DTEND;VALUE=DATE:20250901
DTSTAMP:20260419T163510
CREATED:20240909T062213Z
LAST-MODIFIED:20240909T062213Z
UID:35121-1725148800-1756684799@lamabpo.lt
SUMMARY:VILNIUS TECH individualios konsultacijos
DESCRIPTION:Nori individualios konsultacijos dėl studijų? Registruokis ir gauk atsakymus į tau aktualius klausimus.
URL:https://lamabpo.lt/renginiai/vilnius-tech-individualios-konsultacijos-3/
END:VEVENT
BEGIN:VEVENT
DTSTART;VALUE=DATE:20240902
DTEND;VALUE=DATE:20250101
DTSTAMP:20260419T163510
CREATED:20240909T062558Z
LAST-MODIFIED:20240909T062558Z
UID:35141-1725235200-1735689599@lamabpo.lt
SUMMARY:KTU Gidas mokykloms
DESCRIPTION:KTU Gidas mokykloms – tai KTU siūlomos mokymosi\, užsiėmimų\, iššūkių\, laisvalaikio galimybės\, išplečiančios pažinimo ribas ir padedančios kryptingai planuoti karjeros kelią.
URL:https://lamabpo.lt/renginiai/ktu-gidas-mokykloms/
END:VEVENT
BEGIN:VEVENT
DTSTART;VALUE=DATE:20240902
DTEND;VALUE=DATE:20250101
DTSTAMP:20260419T163510
CREATED:20240909T063119Z
LAST-MODIFIED:20240909T063119Z
UID:35138-1725235200-1735689599@lamabpo.lt
SUMMARY:KTU individualios konsultacijos
DESCRIPTION:Norite klausti apie studijas\, vizitus\, renginius ir  bendradarbiavimą su KTU\, domitės ugdymo iniciatyvomis? Parašykite KTU komandai!
URL:https://lamabpo.lt/renginiai/ktu-individualios-konsultacijos/
END:VEVENT
BEGIN:VEVENT
DTSTART;VALUE=DATE:20240902
DTEND;VALUE=DATE:20250101
DTSTAMP:20260419T163510
CREATED:20240909T063244Z
LAST-MODIFIED:20240909T063247Z
UID:35137-1725235200-1735689599@lamabpo.lt
SUMMARY:GUIDed junior
DESCRIPTION:GUIDed junior – tai mentorystė\, sukurianti ryšį tarp moksleivio ir studento\, siekiant padėti moksleiviui suprasti\, kokia studentiška patirtis jo gali laukti ateityje
URL:https://lamabpo.lt/renginiai/guided-junior/
END:VEVENT
BEGIN:VEVENT
DTSTART;TZID=Europe/Vilnius:20241108T100000
DTEND;TZID=Europe/Vilnius:20241108T140000
DTSTAMP:20260419T163510
CREATED:20240923T055546Z
LAST-MODIFIED:20241014T133435Z
UID:35215-1731060000-1731074400@lamabpo.lt
SUMMARY:Pasimatuok studento batus – pasimatuok MRU. Atvirų durų diena 2024 m. lapkričio 8 d.
DESCRIPTION:Kviečiame moksleivius\, jų tėvus ir mokytojus į atvirų durų dieną Mykolo Romerio universitete. \nRenginyje susipažinsite su MRU – didžiausiu specializuotu socialinių ir humanitarinių mokslų universitetu Lietuvoje. \nAtvykti verta\, nes Jūsų lauks:  \n\nĮtraukiančios kūrybinės veiklos.\nĮdomios paskaitos.\nKonsultacijos dėl priėmimo reikalavimų ir studijų programų.\nPasikalbėjimai su MRU studentais\, dėstytojais ir partneriais.\n\nIšsami renginio programa ir daugiau informacijos – spalio 15 dieną. \n2024 11 08 – šią datą į savo mokyklos renginių kalendorių įsirašykite jau dabar. \nRegistracija į MRU atvirų durų dieną prasidėjo ir vyks iki lapkričio 1 d.: registracijos forma*.\n* Po sėkmingos registracijos su jumis susisieksime. \n \n2024 m. lapkričio 8  d. 10.00–14.00 val.  MRU Centriniai rūmai\, Ateities g. 20\, Vilnius. \nLiko neatsakytų klausimų? Susisiekime: info@mruni.eu \n 
URL:https://lamabpo.lt/renginiai/pasimatuok-studento-batus-pasimatuok-mru/
END:VEVENT
BEGIN:VEVENT
DTSTART;TZID=Europe/Vilnius:20241115T000000
DTEND;TZID=Europe/Vilnius:20241115T235900
DTSTAMP:20260419T163510
CREATED:20240909T061158Z
LAST-MODIFIED:20240909T061158Z
UID:35127-1731628800-1731715140@lamabpo.lt
SUMMARY:Atvirų durų diena VILNIUS TECH
DESCRIPTION:Interaktyvus renginys VILNIUS TECH.
URL:https://lamabpo.lt/renginiai/atviru-duru-diena-vilnius-tech-3/
END:VEVENT
BEGIN:VEVENT
DTSTART;VALUE=DATE:20241115
DTEND;VALUE=DATE:20241116
DTSTAMP:20260419T163510
CREATED:20241021T104802Z
LAST-MODIFIED:20241021T104821Z
UID:35349-1731628800-1731715199@lamabpo.lt
SUMMARY:LKA I-ojo kurso kariūnų priesaikos ceremonija ir jaunųjų kariūnų lyderių pasižadėjimo ceremonija
DESCRIPTION:Kviečiame visus 11.00 val. susitikti Katedros aikštėje ir dalyvauti ceremonijoje\, kurioje jaunieji kariai prisieks Lietuvai.
URL:https://lamabpo.lt/renginiai/lka-i-ojo-kurso-kariunu-priesaikos-ceremonija-ir-jaunuju-kariunu-lyderiu-pasizadejimo-ceremonija/
END:VEVENT
BEGIN:VEVENT
DTSTART;VALUE=DATE:20241118
DTEND;VALUE=DATE:20241220
DTSTAMP:20260419T163510
CREATED:20240909T061711Z
LAST-MODIFIED:20240909T061711Z
UID:35126-1731888000-1734652799@lamabpo.lt
SUMMARY:Atviros paskaitos TAU
DESCRIPTION:Moksleivi\, kartu su esamais studentais dalyvauk jų paskaitose!
URL:https://lamabpo.lt/renginiai/atviros-paskaitos-tau-2/
END:VEVENT
BEGIN:VEVENT
DTSTART;VALUE=DATE:20241120
DTEND;VALUE=DATE:20241121
DTSTAMP:20260419T163510
CREATED:20241111T114256Z
LAST-MODIFIED:20241111T114258Z
UID:35493-1732060800-1732147199@lamabpo.lt
SUMMARY:Galimybių festivalis TAVO PIN KODAS
DESCRIPTION:Lapkričio 20 d. Šiaulių valstybinė kolegija jau septintą kartą organizuoja Šiaulių miesto ir regiono 8–12 klasių moksleiviams skirtą renginį – „Galimybių festivalį TAVO PIN KODAS“\, sukviečiantį jaunimą klausytis įkvepiančių pranešimų\, rinktis neformalias veiklas\, ieškoti savęs ir tiesiog smagiai leisti laiką.\nŠiaulių arenoje vyksiantis tradicinis renginys visus dalyvius šiemet pasitinka šūkiu „#ManiFESTuokSėkmę“. Kas yra sėkmė? Kaip tikslingai siekti savo tikslų? Ką gali padaryti jau šiandien\, kad rytoj būtum geresnė savęs versija? Į šiuos ir kitus klausimus kviečiame atsakymų ieškoti kartu!\nDaugiau informacijos apie renginį – www.tavopinkodas.lt.\n\nRenginys nemokamas.
URL:https://lamabpo.lt/renginiai/galimybiu-festivalis-tavo-pin-kodas-2/
END:VEVENT
BEGIN:VEVENT
DTSTART;VALUE=DATE:20241122
DTEND;VALUE=DATE:20260101
DTSTAMP:20260419T163510
CREATED:20250122T121331Z
LAST-MODIFIED:20250122T121334Z
UID:35810-1732233600-1767225599@lamabpo.lt
SUMMARY:Patirk VDU!
DESCRIPTION:VDU kviečia mokinių grupes „patirti“ universitetą. Suburkite 20-50 vyresnių klasių mokinių grupes\, išsirinkite norimą temą ir pasinerkite į studentišką kelionę. \n 
URL:https://lamabpo.lt/renginiai/patirk-vdu-3/
END:VEVENT
BEGIN:VEVENT
DTSTART;VALUE=DATE:20241124
DTEND;VALUE=DATE:20241125
DTSTAMP:20260419T163510
CREATED:20241021T104336Z
LAST-MODIFIED:20241021T104336Z
UID:35350-1732406400-1732492799@lamabpo.lt
SUMMARY:Generolo Jono Žemaičio iššūkis
DESCRIPTION:Lapkričio 24- ą dieną vyks sportinis iššūkis\, kuriame kviečiame varžytis visus norinčius nuo 15-os metų amžiaus. Registracija vykdoma svetainėje www.lka.lt Laukia pramogos\, kultūrinė programa\, vaišės ir istorinė pamoka apie Joną Žemaitį.
URL:https://lamabpo.lt/renginiai/generolo-jono-zemaicio-issukis/
END:VEVENT
BEGIN:VEVENT
DTSTART;VALUE=DATE:20241128
DTEND;VALUE=DATE:20241129
DTSTAMP:20260419T163510
CREATED:20241120T112525Z
LAST-MODIFIED:20241120T112525Z
UID:35507-1732752000-1732838399@lamabpo.lt
SUMMARY:Karjeros diena PANKO
DESCRIPTION:Nuostabi galimybė išsirinkti praktikos vietą\, susipažinti su darbdaviu\, pažinti verslus ir organizacijas! \nŠio renginio tikslas – suburti įvairių sričių verslo\, viešojo sektoriaus atstovus ir suteikti studentams ir profesinių mokyklų mokiniams galimybę susipažinti su studijų. savanorystės\, praktikos bei darbo galimybėmis. \nRenginio metu vyks: \n\nMugė\, kurioje įmonės ir organizacijos pristatys savo veiklą.\nPaskaitos\, kurių metu įmonės ir organizacijos dalinsis savo patirtimi\, pristatys inovatyvias idėjas arba darbo rinkos tendencijas.
URL:https://lamabpo.lt/renginiai/karjeros-diena-panko/
END:VEVENT
END:VCALENDAR