BEGIN:VCALENDAR
VERSION:2.0
PRODID:-//LAMA BPO - ECPv6.15.20//NONSGML v1.0//EN
CALSCALE:GREGORIAN
METHOD:PUBLISH
X-ORIGINAL-URL:https://lamabpo.lt
X-WR-CALDESC:LAMA BPO renginiai
REFRESH-INTERVAL;VALUE=DURATION:PT1H
X-Robots-Tag:noindex
X-PUBLISHED-TTL:PT1H
BEGIN:VTIMEZONE
TZID:Europe/Vilnius
BEGIN:DAYLIGHT
TZOFFSETFROM:+0200
TZOFFSETTO:+0300
TZNAME:EEST
DTSTART:20230326T010000
END:DAYLIGHT
BEGIN:STANDARD
TZOFFSETFROM:+0300
TZOFFSETTO:+0200
TZNAME:EET
DTSTART:20231029T010000
END:STANDARD
BEGIN:DAYLIGHT
TZOFFSETFROM:+0200
TZOFFSETTO:+0300
TZNAME:EEST
DTSTART:20240331T010000
END:DAYLIGHT
BEGIN:STANDARD
TZOFFSETFROM:+0300
TZOFFSETTO:+0200
TZNAME:EET
DTSTART:20241027T010000
END:STANDARD
BEGIN:DAYLIGHT
TZOFFSETFROM:+0200
TZOFFSETTO:+0300
TZNAME:EEST
DTSTART:20250330T010000
END:DAYLIGHT
BEGIN:STANDARD
TZOFFSETFROM:+0300
TZOFFSETTO:+0200
TZNAME:EET
DTSTART:20251026T010000
END:STANDARD
BEGIN:DAYLIGHT
TZOFFSETFROM:+0200
TZOFFSETTO:+0300
TZNAME:EEST
DTSTART:20260329T010000
END:DAYLIGHT
BEGIN:STANDARD
TZOFFSETFROM:+0300
TZOFFSETTO:+0200
TZNAME:EET
DTSTART:20261025T010000
END:STANDARD
BEGIN:DAYLIGHT
TZOFFSETFROM:+0200
TZOFFSETTO:+0300
TZNAME:EEST
DTSTART:20270328T010000
END:DAYLIGHT
BEGIN:STANDARD
TZOFFSETFROM:+0300
TZOFFSETTO:+0200
TZNAME:EET
DTSTART:20271031T010000
END:STANDARD
END:VTIMEZONE
BEGIN:VEVENT
DTSTART;VALUE=DATE:20241122
DTEND;VALUE=DATE:20260101
DTSTAMP:20260421T225242
CREATED:20250122T121331Z
LAST-MODIFIED:20250122T121334Z
UID:35810-1732233600-1767225599@lamabpo.lt
SUMMARY:Patirk VDU!
DESCRIPTION:VDU kviečia mokinių grupes „patirti“ universitetą. Suburkite 20-50 vyresnių klasių mokinių grupes\, išsirinkite norimą temą ir pasinerkite į studentišką kelionę. \n 
URL:https://lamabpo.lt/renginiai/patirk-vdu-3/
END:VEVENT
BEGIN:VEVENT
DTSTART;VALUE=DATE:20250101
DTEND;VALUE=DATE:20260101
DTSTAMP:20260421T225242
CREATED:20250225T063142Z
LAST-MODIFIED:20250225T063145Z
UID:36035-1735689600-1767225599@lamabpo.lt
SUMMARY:Klausk VU
DESCRIPTION:Kaip atrodo tavo svajonių studijos studento akimis\, koks gyvenimas vyksta Vilniaus universitete ir kokios galimybės tavęs laukia čia? Užduok rūpimą klausimą Vilniaus universiteto savanoriams studentams ir gauk informaciją iš pirmų lūpų! \n 
URL:https://lamabpo.lt/renginiai/klausk-vu/
END:VEVENT
BEGIN:VEVENT
DTSTART;VALUE=DATE:20250101
DTEND;VALUE=DATE:20260101
DTSTAMP:20260421T225242
CREATED:20250225T063330Z
LAST-MODIFIED:20250225T063332Z
UID:36034-1735689600-1767225599@lamabpo.lt
SUMMARY:VU veiklos moksleiviams
DESCRIPTION:Susipažink su Vilniaus universitetu (VU) ir dalyvauk VU atstovų siūlomose veiklose atvykęs (-usi) į ekskursiją universitete arba pasikvietęs (-usi) VU į savo mokyklą! Prašome teirautis dėl norimų temų ir vizitų galimybių el. paštu vizitai@vu.lt
URL:https://lamabpo.lt/renginiai/vu-veiklos-moksleiviams/
END:VEVENT
BEGIN:VEVENT
DTSTART;VALUE=DATE:20250101
DTEND;VALUE=DATE:20260101
DTSTAMP:20260421T225242
CREATED:20241202T063644Z
LAST-MODIFIED:20241202T065004Z
UID:35543-1735689600-1767225599@lamabpo.lt
SUMMARY:Atrask KTU
DESCRIPTION:Kviečiame moksleivius į KTU. Išbandykite įvairius užsiėmimus\, iššūkius\, laisvalaikio galimybes\, išplečiančius pažinimo ribas ir padedančius kryptingai planuoti karjerą.
URL:https://lamabpo.lt/renginiai/atrask-ktu-2/
END:VEVENT
BEGIN:VEVENT
DTSTART;VALUE=DATE:20250101
DTEND;VALUE=DATE:20260101
DTSTAMP:20260421T225242
CREATED:20241202T064445Z
LAST-MODIFIED:20241202T065322Z
UID:35541-1735689600-1767225599@lamabpo.lt
SUMMARY:KTU individualios konsultacijos „Konsultuokis ir studijuok“
DESCRIPTION:Norite klausti apie studijas\, vizitus\, renginius ir  bendradarbiavimą su KTU\, domitės ugdymo iniciatyvomis? Parašykite KTU komandai!
URL:https://lamabpo.lt/renginiai/ktu-individualios-konsultacijos-konsultuokis-ir-studijuok/
END:VEVENT
BEGIN:VEVENT
DTSTART;VALUE=DATE:20250122
DTEND;VALUE=DATE:20260101
DTSTAMP:20260421T225242
CREATED:20250122T121657Z
LAST-MODIFIED:20250122T121700Z
UID:35809-1737504000-1767225599@lamabpo.lt
SUMMARY:Dėstytojų paskaitos moksleiviams
DESCRIPTION:Vytauto Didžiojo universitetas siūlo praturtinti ir paįvairinti moksleivių pamokas bei praleisti dieną mokykloje „kitaip“. Pasirinktos paskaitos metu moksleiviai ne tik įgis naujų žinių\, bet ir išgirs įdomių faktų\, naujų versijų\, susipažins su naujausiais moksliniais tyrimais bei atradimais.
URL:https://lamabpo.lt/renginiai/destytoju-paskaitos-moksleiviams-2/
END:VEVENT
BEGIN:VEVENT
DTSTART;VALUE=DATE:20250122
DTEND;VALUE=DATE:20260101
DTSTAMP:20260421T225242
CREATED:20250122T121913Z
LAST-MODIFIED:20250122T121916Z
UID:35808-1737504000-1767225599@lamabpo.lt
SUMMARY:Ekskursijos universitete
DESCRIPTION:Vytauto Didžiojo universitetas siūlo praturtinti ir paįvairinti moksleivių pamokas bei praleisti jas Vytauto Didžiojo universitete aplankant įvairius istorinius\, kultūrinius ir pramoginius objektus. Ekskursijų metu Jus lydės ir istorijas pasakos VDU dėstytojai ir darbuotojai.
URL:https://lamabpo.lt/renginiai/ekskursijos-universitete-2/
END:VEVENT
BEGIN:VEVENT
DTSTART;VALUE=DATE:20250301
DTEND;VALUE=DATE:20260101
DTSTAMP:20260421T225242
CREATED:20250306T111525Z
LAST-MODIFIED:20250306T111525Z
UID:36185-1740787200-1767225599@lamabpo.lt
SUMMARY:Edukacinės veiklos Klaipėdos universitete
DESCRIPTION:Klaipėdos universitetas džiaugiasi galėdamas pasiūlyti moksleiviams edukacines paslaugas savo laboratorijose. Tokios veiklos skatina mokinių smalsumą\, kūrybiškumą ir mokslinį mąstymą.
URL:https://lamabpo.lt/renginiai/edukacines-veiklos-klaipedos-universitete/
END:VEVENT
BEGIN:VEVENT
DTSTART;VALUE=DATE:20250301
DTEND;VALUE=DATE:20260101
DTSTAMP:20260421T225242
CREATED:20250306T111750Z
LAST-MODIFIED:20250306T111753Z
UID:36184-1740787200-1767225599@lamabpo.lt
SUMMARY:Edukacinės Klaipėdos universiteto veiklos NUOTOLIU
DESCRIPTION:Klaipėdos universitetas supranta nuotolinių edukacinių veiklų svarbą moksleiviams\, ypač dabartinėje technologijų eroje\, tad siūlo rinktis ir dalyvauti.
URL:https://lamabpo.lt/renginiai/edukacines-klaipedos-universiteto-veiklos-nuotoliu/
END:VEVENT
BEGIN:VEVENT
DTSTART;VALUE=DATE:20250301
DTEND;VALUE=DATE:20260101
DTSTAMP:20260421T225242
CREATED:20250306T112008Z
LAST-MODIFIED:20250306T112008Z
UID:36183-1740787200-1767225599@lamabpo.lt
SUMMARY:Nelauk Studijų metų. Mokyk (is) Klaipėdos universitete dabar
DESCRIPTION:Universiteto specialistų siūloma praktinė\, eksperimentinė\, moksliniais tyrimais paremta veikla skatina moksleivių kūrybiškumą ir kritinį mąstymą\, motyvuoja atrasti ir vystyti savo talentą.
URL:https://lamabpo.lt/renginiai/nelauk-studiju-metu-mokyk-is-klaipedos-universitete-dabar/
END:VEVENT
BEGIN:VEVENT
DTSTART;VALUE=DATE:20250301
DTEND;VALUE=DATE:20260101
DTSTAMP:20260421T225242
CREATED:20250306T112222Z
LAST-MODIFIED:20250306T112222Z
UID:36182-1740787200-1767225599@lamabpo.lt
SUMMARY:KU \,\,Karjeros diena TAVO mokykloje"
DESCRIPTION:Mes pasirengę padėti jūsų mokyklos moksleiviams atrasti savo karjeros kelią ir pasiruošti sėkmingoms studijoms. Tikime\, kad bendradarbiaudami galime kurti šviesesnę ateitį ir stiprią\, išsilavinusią visuomenę.
URL:https://lamabpo.lt/renginiai/karjeros-diena-tavo-mokykloje/
END:VEVENT
BEGIN:VEVENT
DTSTART;VALUE=DATE:20250605
DTEND;VALUE=DATE:20260606
DTSTAMP:20260421T225242
CREATED:20250425T060532Z
LAST-MODIFIED:20250425T060535Z
UID:36459-1749081600-1780703999@lamabpo.lt
SUMMARY:Vilniaus kolegijos (VIKO) atviros nuotolinės paskaitos moksleiviams Vizualinės komunikacijos ir Prekės ženklo kūrimo temomis
DESCRIPTION:VIKO Verslo vadybos fakultetas kviečia moksleivius į atviras nuotolines paskaitas apie vizualinę komunikaciją ir prekės ženklo kūrimą. Paskaitas ves lektorė Laimutė Fedosejeva. Paskaitų metu susipažinsite su harmonijos sąvoka komunikacijoje bei pagrindiniais grafinės kompozicijos principais – pusiausvyra\, proporcija\, simetrija. Taip pat sužinosite\, kaip kuriamas prekės ženklo stilius\, kokie jam keliami reikalavimai ir kokiais atvejais bei kodėl atliekamas prekės ženklo atnaujinimas. Nebūtina dalyvauti abiejose paskaitose – galima pasirinkti tik vieną.\n\nVieta: MS Teams\nLaikas: Gegužės 3 d.\, 8:00 val. Vaizdo harmonizavimo priemonės; Birželio 5 d.\, 18:00 val. Prekės ženklo stilius\nRegistracija: 👉 https://forms.office.com/e/n7NKQpzZKH \, prisijungimo nuoroda bus atsiųsta užsiregistravusiems dalyviams.
URL:https://lamabpo.lt/renginiai/vilniaus-kolegijos-viko-atviros-nuotolines-paskaitos-moksleiviams-vizualines-komunikacijos-ir-prekes-zenklo-kurimo-temomis-2/
END:VEVENT
BEGIN:VEVENT
DTSTART;VALUE=DATE:20250908
DTEND;VALUE=DATE:20260101
DTSTAMP:20260421T225242
CREATED:20250908T070353Z
LAST-MODIFIED:20250908T070622Z
UID:37308-1757289600-1767225599@lamabpo.lt
SUMMARY:GUIDed junior
DESCRIPTION:GUIDed junior – tai mentorystė\, sukurianti ryšį tarp moksleivio ir studento\, siekiant padėti moksleiviui suprasti\, kokia studentiška patirtis jo gali laukti ateityje.
URL:https://lamabpo.lt/renginiai/guided-junior-2/
END:VEVENT
BEGIN:VEVENT
DTSTART;VALUE=DATE:20251002
DTEND;VALUE=DATE:20251003
DTSTAMP:20260421T225242
CREATED:20250908T070043Z
LAST-MODIFIED:20250908T070148Z
UID:37309-1759363200-1759449599@lamabpo.lt
SUMMARY:KTU WANTed karjeros dienos 2025
DESCRIPTION:KTU WANTed karjeros dienos 2025 – tai vienas didžiausių karjeros planavimo renginių Baltijos šalyse\, kviečiantis visus Lietuvos studentus\, moksleivius ir įmones!
URL:https://lamabpo.lt/renginiai/ktu-wanted-karjeros-dienos-2025/
END:VEVENT
BEGIN:VEVENT
DTSTART;VALUE=DATE:20251020
DTEND;VALUE=DATE:20251025
DTSTAMP:20260421T225242
CREATED:20251002T113054Z
LAST-MODIFIED:20251022T062847Z
UID:37407-1760918400-1761350399@lamabpo.lt
SUMMARY:VU „Studentas vienai dienai“
DESCRIPTION:Kviečiame moksleivius ir visus kitus\, kurie domisi studijomis Vilniaus universitete dalyvauti jau tradicija tapusiame renginyje „Studentas vienai dienai“.  \nTai puiki proga pajusti universiteto atmosferą ir patirti studentiško gyvenimo ritmą. Tai patirtis\, kuri padės atrasti jums tinkamiausią studijų kelią ar netikėtai atvers naujas galimybes. \nŠios renginių savaitės metu turėsite progą: \n\ndalyvauti VU studentams dėstomose kontaktinėse ir nuotolinėse paskaitose visuose 15-oje VU padalinių;\nsužinoti daugiau apie pasiruošimą egzaminams\, studijų pasirinkimą ir karjeros galimybes;\nsusipažinti su dėstytojais bei studentais\, kurie dalinsis naudingais patarimais;\ndalyvauti renginiuose ir VU studentų laisvalaikio veiklose;\nužduoti norimus klausimus studentiškų organizacijų nariams.\n\nRenginys vyks 2025 m. spalio 20-24 dienomis \nRegistracija prasideda spalio 6 dieną. \nDaugiau informacijos: https://www.vu.lt/svd \n \n  \n 
URL:https://lamabpo.lt/renginiai/vu-studentas-vienai-dienai-2/
END:VEVENT
BEGIN:VEVENT
DTSTART;VALUE=DATE:20251029
DTEND;VALUE=DATE:20251030
DTSTAMP:20260421T225242
CREATED:20251028T091803Z
LAST-MODIFIED:20251028T091827Z
UID:37516-1761696000-1761782399@lamabpo.lt
SUMMARY:KTU konsultacijos Karjeros mugėje Tauragėje 2025
DESCRIPTION:2025 spalio 29 d. KTU specialistai dalyvaus Karjeros mugėje Tauragėje. Sužinokite apie studijas ir papildomas veiklas studentams KTU. Drąsiai svarstyk įvairius karjeros kelio pasirinkimus\, studijuok dėl savęs!\nKarjeros mugėje KTU specialistai konsultuos apie studijas.
URL:https://lamabpo.lt/renginiai/ktu-konsultacijos-karjeros-mugeje-taurageje-2025/
END:VEVENT
BEGIN:VEVENT
DTSTART;VALUE=DATE:20251030
DTEND;VALUE=DATE:20251031
DTSTAMP:20260421T225242
CREATED:20251028T091940Z
LAST-MODIFIED:20251028T091946Z
UID:37515-1761782400-1761868799@lamabpo.lt
SUMMARY:KTU studijų pristatymas Karjeros mugėje 2025 Druskininkuose
DESCRIPTION:Kauno technologijos universiteto (KTU) specialistai dalyvaus Karjeros mugėje Druskininkuose. 2025 spalio 30 d. kviečiame į susitikimą: aptarsime karjeros kelio pasirinkimo galimybes\, studijų pasirinkimą ir KTU studentų veiklas. Kviečiame konsultuotis apie studijų pasirinkimą.
URL:https://lamabpo.lt/renginiai/ktu-studiju-pristatymas-karjeros-mugeje-2025-druskininkuose/
END:VEVENT
END:VCALENDAR